BEGIN:VCALENDAR
VERSION:2.0
CALSCALE:GREGORIAN
X-WR-CALNAME:MLDK - Mærkevareleverandørene
BEGIN:VEVENT
SUMMARY:Trends & innovation: Er danskerne åbne overfor funktionelle fødevarer og nye produkter?
DTEND;VALUE=DATE:20260507T114500
DTSTART;VALUE=DATE:20260507T110000
DTSTAMP:20260421T194723Z
LOCATION:
DESCRIPTION: 
ORGANIZER:MLDK - Mærkevareleverandørene
URL;VALUE=URI:https://mldk.org/event/trends-innovation-er-danskerne-aabne-overfor-funktionelle-foedevarer-og-nye-produkter/
STATUS:CONFIRMED
SEQUENCE:3
BEGIN:VALARM
TRIGGER:-PT10M
DESCRIPTION:Reminder for Trends &amp\; innovation: Er danskerne åbne overfor funktionelle fødevarer og nye produkter?
ACTION:DISPLAY
END:VALARM
END:VEVENT
END:VCALENDAR
