BEGIN:VCALENDAR
VERSION:2.0
CALSCALE:GREGORIAN
X-WR-CALNAME:MLDK - Mærkevareleverandørene
BEGIN:VEVENT
SUMMARY:Hvordan har tilbudsavisen det?
DTEND;VALUE=DATE:20260528T114500
DTSTART;VALUE=DATE:20260528T110000
DTSTAMP:20260425T131104Z
LOCATION:
DESCRIPTION: 
ORGANIZER:MLDK - Mærkevareleverandørene
URL;VALUE=URI:https://mldk.org/event/hvordan-har-tilbudsavisen-det/
STATUS:CONFIRMED
SEQUENCE:3
BEGIN:VALARM
TRIGGER:-PT10M
DESCRIPTION:Reminder for Hvordan har tilbudsavisen det?
ACTION:DISPLAY
END:VALARM
END:VEVENT
END:VCALENDAR
