BEGIN:VCALENDAR
VERSION:2.0
CALSCALE:GREGORIAN
X-WR-CALNAME:MLDK - Mærkevareleverandørene
BEGIN:VEVENT
SUMMARY:Praktisk forståelse af regler og retningslinjer for prismarkedsføring med Salling Group
DTEND;VALUE=DATE:20260504T114500
DTSTART;VALUE=DATE:20260504T110000
DTSTAMP:20260421T185633Z
LOCATION:
DESCRIPTION: 
ORGANIZER:MLDK - Mærkevareleverandørene
URL;VALUE=URI:https://mldk.org/event/praktisk-forstaaelse-af-regler-og-retningslinjer-for-prismarkedsfoering-med-salling-group/
STATUS:CONFIRMED
SEQUENCE:3
BEGIN:VALARM
TRIGGER:-PT10M
DESCRIPTION:Reminder for Praktisk forståelse af regler og retningslinjer for prismarkedsføring med Salling Group
ACTION:DISPLAY
END:VALARM
END:VEVENT
END:VCALENDAR
